BEGIN:VCALENDAR
VERSION:2.0
PRODID:-//ChamberMaster//Event Calendar 2.0//EN
METHOD:PUBLISH
X-PUBLISHED-TTL:P3D
REFRESH-INTERVAL:P3D
CALSCALE:GREGORIAN
BEGIN:VEVENT
DTSTART:20170604T040000Z
DTEND:20170604T070000Z
X-MICROSOFT-CDO-ALLDAYEVENT:FALSE
SUMMARY:Emma's Revolution Concert
DESCRIPTION:Revolution Now CD Release Concert\, sponsored by the Alaska Peace Center! Celebrating their new release "Revolution Now"\, with powerful observations on everything from reproductive justice to refugees\, from the Black Lives Matter movement to the radical notion of love to counter white nationalism and hatred. "Revolution Now" rallies passion in sounds ranging from folk to jazz to funk. $20-$25 sliding scale
X-ALT-DESC;FMTTYPE=text/html:Revolution Now CD Release Concert\, sponsored by the Alaska Peace Center! Celebrating their new release &ldquo\;Revolution Now&rdquo\;\, with powerful observations on everything from reproductive justice to refugees\, from the Black Lives Matter movement to the radical notion of love to counter white nationalism and hatred. &ldquo\;Revolution Now&rdquo\; rallies passion in sounds ranging from folk to jazz to funk. $20-$25 sliding scale
LOCATION:Unitarian Universalist Fellowship\, 4448 Pike's Landing Road\, Fairbanks
UID:e.106.18933
SEQUENCE:3
DTSTAMP:20260421T174741Z
URL:https://www.fairbankschamber.org/events/details/emma-s-revolution-concert-18933
END:VEVENT

END:VCALENDAR
