BEGIN:VCALENDAR
VERSION:2.0
PRODID:-//ChamberMaster//Event Calendar 2.0//EN
METHOD:PUBLISH
X-PUBLISHED-TTL:P3D
REFRESH-INTERVAL:P3D
CALSCALE:GREGORIAN
BEGIN:VEVENT
DTSTART:20170223T010000Z
DTEND:20170223T020000Z
X-MICROSOFT-CDO-ALLDAYEVENT:FALSE
SUMMARY:Emergency Disaster Homeowner Handbook
DESCRIPTION:What if you suddenly are faced with an earthquake\, a volcanic eruption\, a tsunami\, a flood or approaching wildfire? Have you tended to the outside of the structure and landscaping to minimize damage to your home? Have you installed latches on cabinets and drawers that will prevent the spilling out contents? Are large items such as hot water heaters secured with extra precaution so they will not fall\, float or shake away? This event will cover topics of the UAF Cooperative Extension and UAF Marine Advisory Program edited manual that is being constructed for public publication.
X-ALT-DESC;FMTTYPE=text/html:What if you suddenly are faced with an earthquake\, a volcanic eruption\, a tsunami\, a flood or approaching wildfire? Have you tended to the outside of the structure and landscaping to minimize damage to your home? Have you installed latches on cabinets and drawers that will prevent the spilling out contents? Are large items such as hot water heaters secured with extra precaution so they will not fall\, float or shake away? This event will cover topics of the UAF Cooperative Extension and UAF Marine Advisory Program edited manual that is being constructed for public publication.
LOCATION:UAF Schaible Auditorium
UID:e.106.17694
SEQUENCE:3
DTSTAMP:20260421T234413Z
URL:https://www.fairbankschamber.org/events/details/emergency-disaster-homeowner-handbook-17694
END:VEVENT

END:VCALENDAR
