BEGIN:VCALENDAR
VERSION:2.0
PRODID:-//ChamberMaster//Event Calendar 2.0//EN
METHOD:PUBLISH
X-PUBLISHED-TTL:P3D
REFRESH-INTERVAL:P3D
CALSCALE:GREGORIAN
BEGIN:VEVENT
DTSTART:20160820T180000Z
DTEND:20160821T000000Z
X-MICROSOFT-CDO-ALLDAYEVENT:FALSE
SUMMARY:Electronics Recycling Depot
DESCRIPTION:Please bring your unwanted electronics to Green Star of Interior Alaska's next Electronics Recycling Depot. FREE green e-waste recycling for FNSB homes and businesses thanks to a grant from the FNSB Recycling Commission! Next collection is Friday\, August 19th & Saturday\, August 20th\, 10 am - 4 pm at 1855 Marika Rd off Aurora. Always the 3rd Friday/Saturday of each month. Your help as a volunteer would be greatly appreciated! Light duty jobs are available too. Sign up at http://iagreenstar.org/volunteer-sign-up/ We recycle almost anything that plugs in or has batteries as well as cell phones\, ink/toner cartridges\, CDs/DVDs and batteries.
X-ALT-DESC;FMTTYPE=text/html:Please bring your unwanted electronics to Green Star of Interior Alaska&#39\;s next Electronics Recycling Depot. FREE green e-waste recycling for FNSB homes and businesses thanks to a grant from the FNSB Recycling Commission! Next collection is Friday\, August 19th &amp\; Saturday\, August 20th\, 10 am - 4 pm at 1855 Marika Rd off Aurora. Always the 3rd Friday/Saturday of each month. Your help as a volunteer would be greatly appreciated! Light duty jobs are available too. Sign up at http://iagreenstar.org/volunteer-sign-up/ We recycle almost anything that plugs in or has batteries as well as cell phones\, ink/toner cartridges\, CDs/DVDs and batteries.
LOCATION:UAF Central Receiving Warehouse
UID:e.106.16717
SEQUENCE:3
DTSTAMP:20260422T082607Z
URL:https://www.fairbankschamber.org/events/details/electronics-recycling-depot-08-20-2016-16717
END:VEVENT

END:VCALENDAR
