BEGIN:VCALENDAR
VERSION:2.0
PRODID:-//ChamberMaster//Event Calendar 2.0//EN
METHOD:PUBLISH
X-PUBLISHED-TTL:P3D
REFRESH-INTERVAL:P3D
CALSCALE:GREGORIAN
BEGIN:VEVENT
DTSTART:20170818T011500Z
DTEND:20170818T023000Z
X-MICROSOFT-CDO-ALLDAYEVENT:FALSE
SUMMARY:Efficient Communication Strategies: Young Professionals Council
DESCRIPTION:Local young professionals (no age limit...you decide if you qualify) are invited to join YPC for networking and interesting presentations by other young professionals. The guest speaker will be Amy May\, who works in UAF's Department of Communication. She will offer a special encore presentation of "Efficient Communication Strategies." If you'll need to join us remotely\, email bbrado@investfairbanks.com and you'll receive a link to the streamed presentation. Or you can call in at 1-800-315-6338\, access code: 61930# Don't forget to check us out online at www.fairbanksypc.com.
X-ALT-DESC;FMTTYPE=text/html:Local young professionals (no age limit...you decide if you qualify) are invited to join YPC for networking and interesting presentations by other young professionals. The guest speaker will be Amy May\, who works in UAF&#39\;s Department of Communication. She will offer a special encore presentation of &quot\;Efficient Communication Strategies.&quot\; If you&#39\;ll need to join us remotely\, email bbrado@investfairbanks.com and you&#39\;ll receive a link to the streamed presentation. Or you can call in at 1-800-315-6338\, access code: 61930# Don&#39\;t forget to check us out online at www.fairbanksypc.com.
LOCATION:This meeting will be held at Fairbanks Economic Development Center's office: 330 Wendell Ave\, Ste E. Due to Noble St construction\, it's best to approach FEDC's office from Old Steese.
UID:e.106.20046
SEQUENCE:3
DTSTAMP:20260421T151056Z
URL:https://www.fairbankschamber.org/events/details/efficient-communication-strategies-young-professionals-council-20046
END:VEVENT

END:VCALENDAR
