BEGIN:VCALENDAR
VERSION:2.0
PRODID:-//ChamberMaster//Event Calendar 2.0//EN
METHOD:PUBLISH
X-PUBLISHED-TTL:P3D
REFRESH-INTERVAL:P3D
CALSCALE:GREGORIAN
BEGIN:VEVENT
DTSTART:20170301T210000Z
DTEND:20170301T220000Z
X-MICROSOFT-CDO-ALLDAYEVENT:FALSE
SUMMARY:Education and Workforce Development Committee Meeting
DESCRIPTION:
X-ALT-DESC;FMTTYPE=text/html:
LOCATION:Chamber Office Conference Room
UID:e.106.17567
SEQUENCE:3
DTSTAMP:20260421T220355Z
URL:https://www.fairbankschamber.org/events/details/education-and-workforce-development-committee-meeting-03-01-2017-17567
END:VEVENT

END:VCALENDAR
