BEGIN:VCALENDAR
VERSION:2.0
PRODID:-//ChamberMaster//Event Calendar 2.0//EN
METHOD:PUBLISH
X-PUBLISHED-TTL:P3D
REFRESH-INTERVAL:P3D
CALSCALE:GREGORIAN
BEGIN:VEVENT
DTSTART:20161210T170000Z
DTEND:20161211T010000Z
X-MICROSOFT-CDO-ALLDAYEVENT:FALSE
SUMMARY:Driver's Education
DESCRIPTION:This is our last course for 2016!\n\nOur all inclusive Driver's Education course is $450. It includes 8 hours in class\, 6 hours behind the wheel and the road test at the end once ready. \n\n\n\nClass is one full day of learning. We provide lunch. Driving will be scheduled after class is completed. \n\n\n\nNow offering discounts to service members and their families\; military\, fire\, police and educators.
X-ALT-DESC;FMTTYPE=text/html:This is our last course for 2016!<br />\nOur all inclusive Driver&#39\;s Education course is $450. It includes 8 hours in class\, 6 hours behind the wheel and the road test at the end once ready.&nbsp\;<br />\n<br />\nClass is one full day of learning. We provide lunch. Driving will be scheduled after class is completed.&nbsp\;<br />\n<br />\nNow offering discounts to service members and their families\; military\, fire\, police and educators.&nbsp\;
LOCATION:59 College Road\, Suite 114 Fairbanks\, AK 99701
UID:e.106.17391
SEQUENCE:3
DTSTAMP:20260422T025233Z
URL:https://www.fairbankschamber.org/events/details/driver-s-education-17391
END:VEVENT

END:VCALENDAR
