BEGIN:VCALENDAR
VERSION:2.0
PRODID:-//ChamberMaster//Event Calendar 2.0//EN
METHOD:PUBLISH
X-PUBLISHED-TTL:P3D
REFRESH-INTERVAL:P3D
CALSCALE:GREGORIAN
BEGIN:VEVENT
DTSTART:20170620T030000Z
DTEND:20170620T040000Z
X-MICROSOFT-CDO-ALLDAYEVENT:FALSE
SUMMARY:Down Memory Lane: Rudy Krejci
DESCRIPTION:In honor of UAF's 100th anniversary we have invited distinguished retired faculty member Rudy Krejci (Professor Emeritus\, Philosophy and Humanities\, 1960-97) to share with us their wisdom\, memories\, and highlights from their careers at UAF. Join Veteran Journalist Robert Hannon for a stimulating conversation with our honored guests.
X-ALT-DESC;FMTTYPE=text/html:In honor of UAF&#39\;s 100th anniversary we have invited distinguished retired faculty member Rudy Krejci (Professor Emeritus\, Philosophy and Humanities\, 1960-97) to share with us their wisdom\, memories\, and highlights from their careers at UAF. Join Veteran Journalist Robert Hannon for a stimulating conversation with our honored guests.
LOCATION:Elvey Building Auditorium\, UAF Campus
UID:e.106.18877
SEQUENCE:3
DTSTAMP:20260421T174904Z
URL:https://www.fairbankschamber.org/events/details/down-memory-lane-rudy-krejci-18877
END:VEVENT

END:VCALENDAR
