BEGIN:VCALENDAR
VERSION:2.0
PRODID:-//ChamberMaster//Event Calendar 2.0//EN
METHOD:PUBLISH
X-PUBLISHED-TTL:P3D
REFRESH-INTERVAL:P3D
CALSCALE:GREGORIAN
BEGIN:VEVENT
DTSTART:20170725T030000Z
DTEND:20170725T040000Z
X-MICROSOFT-CDO-ALLDAYEVENT:FALSE
SUMMARY:Down Memory Lane: Paul McCarthy
DESCRIPTION:In honor of UAF's 100th anniversary we have invited distinguished retired faculty member Paul McCarthy (Professor Emeritus\, Library Science\, 1964-91) to share with us their wisdom\, memories\, and highlights from their careers at UAF. Join Veteran Journalist Robert Hannon for a stimulating conversation with our honored guests.
X-ALT-DESC;FMTTYPE=text/html:In honor of UAF&#39\;s 100th anniversary we have invited distinguished retired faculty member Paul McCarthy (Professor Emeritus\, Library Science\, 1964-91) to share with us their wisdom\, memories\, and highlights from their careers at UAF. Join Veteran Journalist Robert Hannon for a stimulating conversation with our honored guests.
LOCATION:Elvey Building Auditorium\, UAF Campus
UID:e.106.18881
SEQUENCE:3
DTSTAMP:20260421T034224Z
URL:https://www.fairbankschamber.org/events/details/down-memory-lane-paul-mccarthy-18881
END:VEVENT

END:VCALENDAR
