BEGIN:VCALENDAR
VERSION:2.0
PRODID:-//ChamberMaster//Event Calendar 2.0//EN
METHOD:PUBLISH
X-PUBLISHED-TTL:P3D
REFRESH-INTERVAL:P3D
CALSCALE:GREGORIAN
BEGIN:VEVENT
DTSTART:20170808T030000Z
DTEND:20170808T040000Z
X-MICROSOFT-CDO-ALLDAYEVENT:FALSE
SUMMARY:Down Memory Lane: Dave Klein and Dave Hawkins
DESCRIPTION:In honor of UAF's 100th anniversary we have invited distinguished retired faculty members Dave Klein (Professor Emeritus\, Wildlife Management\, 1962-97) and Dave Hawkins (Professor Emeritus\, Geology and Chemistry\, 1967-90) to share with us their wisdom\, memories\, and highlights from their careers at UAF. Join Veteran Journalist Robert Hannon for a stimulating conversation with our honored guests.
X-ALT-DESC;FMTTYPE=text/html:In honor of UAF&#39\;s 100th anniversary we have invited distinguished retired faculty members Dave Klein (Professor Emeritus\, Wildlife Management\, 1962-97) and Dave Hawkins (Professor Emeritus\, Geology and Chemistry\, 1967-90) to share with us their wisdom\, memories\, and highlights from their careers at UAF. Join Veteran Journalist Robert Hannon for a stimulating conversation with our honored guests.
LOCATION:Elvey Building Auditorium\, UAF Campus
UID:e.106.18883
SEQUENCE:3
DTSTAMP:20260421T151921Z
URL:https://www.fairbankschamber.org/events/details/down-memory-lane-dave-klein-and-dave-hawkins-18883
END:VEVENT

END:VCALENDAR
