BEGIN:VCALENDAR
VERSION:2.0
PRODID:-//ChamberMaster//Event Calendar 2.0//EN
METHOD:PUBLISH
X-PUBLISHED-TTL:P3D
REFRESH-INTERVAL:P3D
CALSCALE:GREGORIAN
BEGIN:VEVENT
DTSTART:20170627T030000Z
DTEND:20170627T040000Z
X-MICROSOFT-CDO-ALLDAYEVENT:FALSE
SUMMARY:Down Memory Lane: Carl Benson and Will Harrison
DESCRIPTION:In honor of UAF's 100th anniversary we have invited distinguished retired faculty members Carl Benson (Professor Emeritus\, Geology and Geophysics\, 1960-87) and Will Harrison (Professor Emeritus\, Physics\, 1972-98) to share with us their wisdom\, memories\, and highlights from their careers at UAF. Join Veteran Journalist Robert Hannon for a stimulating conversation with our honored guests.
X-ALT-DESC;FMTTYPE=text/html:In honor of UAF&#39\;s 100th anniversary we have invited distinguished retired faculty members Carl Benson (Professor Emeritus\, Geology and Geophysics\, 1960-87) and Will Harrison (Professor Emeritus\, Physics\, 1972-98) to share with us their wisdom\, memories\, and highlights from their careers at UAF. Join Veteran Journalist Robert Hannon for a stimulating conversation with our honored guests.
LOCATION:Elvey Building Auditorium\, UAF Campus
UID:e.106.18878
SEQUENCE:3
DTSTAMP:20260421T174919Z
URL:https://www.fairbankschamber.org/events/details/down-memory-lane-carl-benson-and-will-harrison-18878
END:VEVENT

END:VCALENDAR
