BEGIN:VCALENDAR
VERSION:2.0
PRODID:-//ChamberMaster//Event Calendar 2.0//EN
METHOD:PUBLISH
X-PUBLISHED-TTL:P3D
REFRESH-INTERVAL:P3D
CALSCALE:GREGORIAN
BEGIN:VEVENT
DTSTART:20170711T030000Z
DTEND:20170711T040000Z
X-MICROSOFT-CDO-ALLDAYEVENT:FALSE
SUMMARY:Down Memory Lane: Bill Brody and Glen Simpson
DESCRIPTION:In honor of UAF's 100th anniversary we have invited distinguished retired faculty members Bill Brody (Professor Emeritus\, Art\, 1967-2000) and Glen Simpson (Professor Emeritus\, Art\, 1969-97) to share with us their wisdom\, memories\, and highlights from their careers at UAF. Join Veteran Journalist Robert Hannon for a stimulating conversation with our honored guests.
X-ALT-DESC;FMTTYPE=text/html:In honor of UAF&#39\;s 100th anniversary we have invited distinguished retired faculty members Bill Brody (Professor Emeritus\, Art\, 1967-2000) and Glen Simpson (Professor Emeritus\, Art\, 1969-97) to share with us their wisdom\, memories\, and highlights from their careers at UAF. Join Veteran Journalist Robert Hannon for a stimulating conversation with our honored guests.
LOCATION:Elvey Building Auditorium\, UAF Campus
UID:e.106.18879
SEQUENCE:3
DTSTAMP:20260421T161410Z
URL:https://www.fairbankschamber.org/events/details/down-memory-lane-bill-brody-and-glen-simpson-18879
END:VEVENT

END:VCALENDAR
