BEGIN:VCALENDAR
VERSION:2.0
PRODID:-//ChamberMaster//Event Calendar 2.0//EN
METHOD:PUBLISH
X-PUBLISHED-TTL:P3D
REFRESH-INTERVAL:P3D
CALSCALE:GREGORIAN
BEGIN:VEVENT
DTSTART:20161001T023000Z
DTEND:20161002T210000Z
X-MICROSOFT-CDO-ALLDAYEVENT:FALSE
SUMMARY:Dance Workshop with Professional Guest Instructors Jerry Morrison & Deb Cologgi
DESCRIPTION:Back by Popular Demand... Professional Guest Instructors Jerry Morrison & Deb Cologgi Friday\, Saturday & Sunday   Sept 30\, Oct 1 & 2\, 2016 Pioneer Park Dance Center ~~ Comfort in some dance necessary for this workshop.~~ Workshop Classes & Events Friday\, Sep. 30\, 2016 6:30-7:25pm ~ West Coast Swing (Intermediate) 7:30-8:30pm ~ Waltz (All Level) Social Dance ~ 8:30-11:00pm ~ $5/6 *Music by Jerry Morrison & FREE half hour lesson during the dance Saturday\, Oct. 1\, 2016 Day for Novice 10:30-11:20am ~ Hustle: The Social Dance! 11:30-12:20pm ~ Begin Your Night Club 2 Step 12:30-2:00pm ~ Lunch Break 2:00-2:50pm ~ Hustle: Sharpening That Social Dance! 3:00-4:00pm ~ Night Club 2 Step: Figures and Variations 4:00-6:00pm ~ Practice Keep on dancing at Bojangles ~ 8:00pm-? Sunday\, Oct. 2\, 2016 Day for Intermediate 10:00-10:50am ~ West Coast to the Next Level! 11:00-11:50am ~ Night Club 2 Step: Stepping It Up! 12:00-12:50pm ~ Waltz: Beyond the Basic! Please bring clean\, non-marking shoes. No partner necessary.
X-ALT-DESC;FMTTYPE=text/html:Back by Popular Demand... Professional Guest Instructors Jerry Morrison &amp\; Deb Cologgi Friday\, Saturday &amp\; Sunday &ndash\; Sept 30\, Oct 1 &amp\; 2\, 2016 Pioneer Park Dance Center ~~ Comfort in some dance necessary for this workshop.~~ Workshop Classes &amp\; Events Friday\, Sep. 30\, 2016 6:30-7:25pm ~ West Coast Swing (Intermediate) 7:30-8:30pm ~ Waltz (All Level) Social Dance ~ 8:30-11:00pm ~ $5/6 *Music by Jerry Morrison &amp\; FREE half hour lesson during the dance Saturday\, Oct. 1\, 2016 Day for Novice 10:30-11:20am ~ Hustle: The Social Dance! 11:30-12:20pm ~ Begin Your Night Club 2 Step 12:30-2:00pm ~ Lunch Break 2:00-2:50pm ~ Hustle: Sharpening That Social Dance! 3:00-4:00pm ~ Night Club 2 Step: Figures and Variations 4:00-6:00pm ~ Practice Keep on dancing at Bojangles ~ 8:00pm-? Sunday\, Oct. 2\, 2016 Day for Intermediate 10:00-10:50am ~ West Coast to the Next Level! 11:00-11:50am ~ Night Club 2 Step: Stepping It Up! 12:00-12:50pm ~ Waltz: Beyond the Basic! Please bring clean\, non-marking shoes. No partner necessary.
LOCATION:Pioneer Park Dance Center\, 2300 Airport Way\, Fairbanks\, AK
UID:e.106.16755
SEQUENCE:3
DTSTAMP:20260422T055155Z
URL:https://www.fairbankschamber.org/events/details/dance-workshop-with-professional-guest-instructors-jerry-morrison-deb-cologgi-16755
END:VEVENT

END:VCALENDAR
