BEGIN:VCALENDAR
VERSION:2.0
PRODID:-//ChamberMaster//Event Calendar 2.0//EN
METHOD:PUBLISH
X-PUBLISHED-TTL:P3D
REFRESH-INTERVAL:P3D
CALSCALE:GREGORIAN
BEGIN:VEVENT
DTSTART:20170919T020000Z
DTEND:20170919T050000Z
X-MICROSOFT-CDO-ALLDAYEVENT:FALSE
SUMMARY:Dance Lessons -- Session 1
DESCRIPTION:6-Week Sessions Pioneer Park Dance Center All classes ~ no experience necessary! Mondays 6:00-6:55pm ~ Samba I with Tiffany Lehnerd 7:00-7:55pm ~ The Class for 2 Left Feet: Merengue\, Hustle\, and Night Club 2 Step with Tiffany Lehnerd 8:00-8:55pm ~ Salsa I with Meghan Blanchard Wednesdays 6:00-6:55pm ~ Intro to Social Ballroom with Rulon Jensen THE intro to social dancing! 7:00-7:55pm ~ ChaCha I with Tiffany Lehnerd 8:00-8:55pm ~ East Coast Swing I with Lara Vazquez Class Fees: Per 6-week Session: $60 members\, military\, & students/$70 general public
X-ALT-DESC;FMTTYPE=text/html:6-Week Sessions Pioneer Park Dance Center All classes ~ no experience necessary! Mondays 6:00-6:55pm ~ Samba I with Tiffany Lehnerd 7:00-7:55pm ~ The Class for 2 Left Feet: Merengue\, Hustle\, and Night Club 2 Step with Tiffany Lehnerd 8:00-8:55pm ~ Salsa I with Meghan Blanchard Wednesdays 6:00-6:55pm ~ Intro to Social Ballroom with Rulon Jensen THE intro to social dancing! 7:00-7:55pm ~ ChaCha I with Tiffany Lehnerd 8:00-8:55pm ~ East Coast Swing I with Lara Vazquez Class Fees: Per 6-week Session: $60 members\, military\, &amp\; students/$70 general public
LOCATION:Pioneer Park Dance Center
UID:e.106.20060
SEQUENCE:3
DTSTAMP:20260421T130346Z
URL:https://www.fairbankschamber.org/events/details/dance-lessons-session-1-20060
END:VEVENT

END:VCALENDAR
