BEGIN:VCALENDAR
VERSION:2.0
PRODID:-//ChamberMaster//Event Calendar 2.0//EN
METHOD:PUBLISH
X-PUBLISHED-TTL:P3D
REFRESH-INTERVAL:P3D
CALSCALE:GREGORIAN
BEGIN:VEVENT
DTSTART:20161029T220000Z
DTEND:20161030T000000Z
X-MICROSOFT-CDO-ALLDAYEVENT:FALSE
SUMMARY:Dance Lessons! ~ Latin Saturdays!
DESCRIPTION:~No Experience Necessary~ Latin Saturdays with Megan Blanchard 4 Weeks ~ Oct 8-Oct. 29\, 2016 2:00-2:55pm ~ Salsa I 3:00-3:55pm ~ ChaCha I No partner necessary. Pricing and registration available at http://www.ballroomfairbanks.org
X-ALT-DESC;FMTTYPE=text/html:~No Experience Necessary~ Latin Saturdays with Megan Blanchard 4 Weeks ~ Oct 8-Oct. 29\, 2016 2:00-2:55pm ~ Salsa I 3:00-3:55pm ~ ChaCha I No partner necessary. Pricing and registration available at http://www.ballroomfairbanks.org
LOCATION:Pioneer Park Dance Center
UID:e.106.17278
SEQUENCE:3
DTSTAMP:20260422T054946Z
URL:https://www.fairbankschamber.org/events/details/dance-lessons-latin-saturdays-10-29-2016-17278
END:VEVENT

END:VCALENDAR
