BEGIN:VCALENDAR
VERSION:2.0
PRODID:-//ChamberMaster//Event Calendar 2.0//EN
METHOD:PUBLISH
X-PUBLISHED-TTL:P3D
REFRESH-INTERVAL:P3D
CALSCALE:GREGORIAN
BEGIN:VEVENT
DTSTART:20160716T043000Z
DTEND:20160716T070000Z
X-MICROSOFT-CDO-ALLDAYEVENT:FALSE
SUMMARY:Dance Into the Next Decade
DESCRIPTION:Our very own Jennifer is having a birthday. Help her dance into the next decade. Everyone's invited to kick up their heels. Come make Jennifer's evening the BEST EVER!! Whether you're experienced or not\, this is a great way to get moving and meet new people. No experience or partner necessary. Please bring clean\, non-marking shoes.
X-ALT-DESC;FMTTYPE=text/html:Our very own Jennifer is having a birthday. Help her dance into the next decade. Everyone&rsquo\;s invited to kick up their heels. Come make Jennifer&rsquo\;s evening the BEST EVER!! Whether you&rsquo\;re experienced or not\, this is a great way to get moving and meet new people. No experience or partner necessary. Please bring clean\, non-marking shoes.
LOCATION:Pioneer Park Dance Center
UID:e.106.16649
SEQUENCE:3
DTSTAMP:20260422T101434Z
URL:https://www.fairbankschamber.org/events/details/dance-into-the-next-decade-07-15-2016-16649
END:VEVENT

END:VCALENDAR
