BEGIN:VCALENDAR
VERSION:2.0
PRODID:-//ChamberMaster//Event Calendar 2.0//EN
METHOD:PUBLISH
X-PUBLISHED-TTL:P3D
REFRESH-INTERVAL:P3D
CALSCALE:GREGORIAN
BEGIN:VEVENT
DTSTART:20161005T013000Z
DTEND:20161005T033000Z
X-MICROSOFT-CDO-ALLDAYEVENT:FALSE
SUMMARY:Credit/Debt Management
DESCRIPTION:This workshop will help you learn how to read credit reports\; look at the effects of loans and credit cards\; and find out about building and managing your credit. \n\nInstructor: Kelly Ward\, CPA
X-ALT-DESC;FMTTYPE=text/html:This workshop will help you learn how to read credit reports\; look at the effects of loans and credit cards\; and find out about building and managing your credit.&nbsp\;<br />\nInstructor: Kelly Ward\, CPA
LOCATION:Small Business Development Center 3750 Bonita St
UID:e.106.17294
SEQUENCE:3
DTSTAMP:20260422T054051Z
URL:https://www.fairbankschamber.org/events/details/credit-debt-management-17294
END:VEVENT

END:VCALENDAR
