BEGIN:VCALENDAR
VERSION:2.0
PRODID:-//ChamberMaster//Event Calendar 2.0//EN
METHOD:PUBLISH
X-PUBLISHED-TTL:P3D
REFRESH-INTERVAL:P3D
CALSCALE:GREGORIAN
BEGIN:VEVENT
DTSTART:20170530T170000Z
DTEND:20170609T200000Z
X-MICROSOFT-CDO-ALLDAYEVENT:FALSE
SUMMARY:Creative Movement Dance Camp - North Star Ballet
DESCRIPTION:Creative Dance Camp - The Sleeping Beauty A fun\, educational dance experience for children ages 4-9. Each session culminates with a demonstration! Camp runs for five days\, Monday through Friday from 9 AM - 12 PM. Pricing is $210 per session . Session One: May 30 - June 3 Session Two: June 5 - 9
X-ALT-DESC;FMTTYPE=text/html:Creative Dance Camp - The Sleeping Beauty A fun\, educational dance experience for children ages 4-9. Each session culminates with a demonstration! Camp runs for five days\, Monday through Friday from 9 AM - 12 PM. Pricing is $210 per session . Session One: May 30 - June 3 Session Two: June 5 - 9
LOCATION:North Star Ballet 1800 College Road Tanana Valley Fairgrounds
UID:e.106.18786
SEQUENCE:3
DTSTAMP:20260421T174844Z
URL:https://www.fairbankschamber.org/events/details/creative-movement-dance-camp-north-star-ballet-18786
END:VEVENT

END:VCALENDAR
