BEGIN:VCALENDAR
VERSION:2.0
PRODID:-//ChamberMaster//Event Calendar 2.0//EN
METHOD:PUBLISH
X-PUBLISHED-TTL:P3D
REFRESH-INTERVAL:P3D
CALSCALE:GREGORIAN
BEGIN:VEVENT
DTSTART:20160903T003000Z
DTEND:20160903T020000Z
X-MICROSOFT-CDO-ALLDAYEVENT:FALSE
SUMMARY:Contemporary Dance Class - Intermediate/Advanced
DESCRIPTION:Intermediate/advanced contemporary dance class! A technically based class with jazz\, modern\, and Latin based movement influences\, this class will get you moving. Designed for all ages of adults and youths 13+. Find us on FaceBook - The North Star Ballet.
X-ALT-DESC;FMTTYPE=text/html:Intermediate/advanced contemporary dance class! A technically based class with jazz\, modern\, and Latin based movement influences\, this class will get you moving. Designed for all ages of adults and youths 13+. Find us on FaceBook - The North Star Ballet.
LOCATION:North Star Ballet 1800 College Road Tanana Valley Fairgrounds
UID:e.106.16737
SEQUENCE:3
DTSTAMP:20260422T071107Z
URL:https://www.fairbankschamber.org/events/details/contemporary-dance-class-intermediate-advanced-16737
END:VEVENT

END:VCALENDAR
