BEGIN:VCALENDAR
VERSION:2.0
PRODID:-//ChamberMaster//Event Calendar 2.0//EN
METHOD:PUBLISH
X-PUBLISHED-TTL:P3D
REFRESH-INTERVAL:P3D
CALSCALE:GREGORIAN
BEGIN:VEVENT
DTSTART:20160903T023000Z
DTEND:20160903T040000Z
X-MICROSOFT-CDO-ALLDAYEVENT:FALSE
SUMMARY:Contemporary Dance Class - Beginning
DESCRIPTION:Beginning contemporary dance class! A technically based class with jazz\, modern\, and Latin based movement influences\, this class will get you moving. Designed for all ages of adults and youths 11+. $20 per class\, registration can take place on a class by class or semester basis. Find us on FaceBook - The North Star Ballet.
X-ALT-DESC;FMTTYPE=text/html:Beginning contemporary dance class! A technically based class with jazz\, modern\, and Latin based movement influences\, this class will get you moving. Designed for all ages of adults and youths 11+. $20 per class\, registration can take place on a class by class or semester basis. Find us on FaceBook - The North Star Ballet.
LOCATION:1800 College Road\, in the Tanana Valley State Fairgrounds
UID:e.106.16736
SEQUENCE:3
DTSTAMP:20260422T071221Z
URL:https://www.fairbankschamber.org/events/details/contemporary-dance-class-beginning-16736
END:VEVENT

END:VCALENDAR
