BEGIN:VCALENDAR
VERSION:2.0
PRODID:-//ChamberMaster//Event Calendar 2.0//EN
METHOD:PUBLISH
X-PUBLISHED-TTL:P3D
REFRESH-INTERVAL:P3D
CALSCALE:GREGORIAN
BEGIN:VEVENT
DTSTART:20170118T023000Z
DTEND:20170118T043000Z
X-MICROSOFT-CDO-ALLDAYEVENT:FALSE
SUMMARY:Connect 49
DESCRIPTION:Join us! All Fairbanks professionals welcome! Our next Connect 49 will be Tuesday\, January 17\, 5:30-7:30 at Venue. PLEASE SHARE AMONG YOUR NETWORKS. Let's brave the cold together! Thank you to Hoodoo\, Little Owl Caf \, and Venue!
X-ALT-DESC;FMTTYPE=text/html:Join us! All Fairbanks professionals welcome! Our next Connect 49 will be Tuesday\, January 17\, 5:30-7:30 at Venue. PLEASE SHARE AMONG YOUR NETWORKS. Let&rsquo\;s brave the cold together! Thank you to Hoodoo\, Little Owl Caf&eacute\;\, and Venue!
LOCATION:Venue\, 514 2nd Ave
UID:e.106.17620
SEQUENCE:3
DTSTAMP:20260422T011314Z
URL:https://www.fairbankschamber.org/events/details/connect-49-01-17-2017-17620
END:VEVENT

END:VCALENDAR
