BEGIN:VCALENDAR
VERSION:2.0
PRODID:-//ChamberMaster//Event Calendar 2.0//EN
METHOD:PUBLISH
X-PUBLISHED-TTL:P3D
REFRESH-INTERVAL:P3D
CALSCALE:GREGORIAN
BEGIN:VEVENT
DTSTART:20170104T040000Z
DTEND:20170104T050000Z
X-MICROSOFT-CDO-ALLDAYEVENT:FALSE
SUMMARY:Complete Health Improvement Program (CHIP) Information Session
DESCRIPTION:Come learn how you can prevent\, arrest\, and reverse chronic lifestyle diseases such as cardiovascular disease\, type II diabetes\, obesity\, and high blood pressure. Registration for the upcoming CHIP session will be available at this event.
X-ALT-DESC;FMTTYPE=text/html:Come learn how you can prevent\, arrest\, and reverse chronic lifestyle diseases such as cardiovascular disease\, type II diabetes\, obesity\, and high blood pressure. Registration for the upcoming CHIP session will be available at this event.
LOCATION:Fairbanks Seventh-day Adventist Church 1811 Farmer's Loop Road Fairbanks\, AK 99709
UID:e.106.17414
SEQUENCE:3
DTSTAMP:20260422T011724Z
URL:https://www.fairbankschamber.org/events/details/complete-health-improvement-program-chip-information-session-01-03-2017-17414
END:VEVENT

END:VCALENDAR
