BEGIN:VCALENDAR
VERSION:2.0
PRODID:-//ChamberMaster//Event Calendar 2.0//EN
METHOD:PUBLISH
X-PUBLISHED-TTL:P3D
REFRESH-INTERVAL:P3D
CALSCALE:GREGORIAN
BEGIN:VEVENT
DTSTART:20170505T230000Z
DTEND:20170506T040000Z
X-MICROSOFT-CDO-ALLDAYEVENT:FALSE
SUMMARY:Cinco de Mayo Celebration at Hoarfrost Distilling!
DESCRIPTION:Start your Cinco de Mayo celebration early at Hoarfrost Distilling (open 3 8 PM). We'll have Latin Dancing (Salsa\, Merengue\, Bachata)\, starting at 6 PM. Get ready for a night of partying with our theme cocktail special and Pi ata! (Under 21 welcome with parent/guardian.)
X-ALT-DESC;FMTTYPE=text/html:Start your Cinco de Mayo celebration early at Hoarfrost Distilling (open 3&ndash\;8 PM). We&rsquo\;ll have Latin Dancing (Salsa\, Merengue\, Bachata)\, starting at 6 PM. Get ready for a night of partying with our theme cocktail special and Pi&ntilde\;ata! (Under 21 welcome with parent/guardian.)
LOCATION:Hoarfrost Distilling
UID:e.106.18824
SEQUENCE:3
DTSTAMP:20260421T191140Z
URL:https://www.fairbankschamber.org/events/details/cinco-de-mayo-celebration-at-hoarfrost-distilling-18824
END:VEVENT

END:VCALENDAR
