BEGIN:VCALENDAR
VERSION:2.0
PRODID:-//ChamberMaster//Event Calendar 2.0//EN
METHOD:PUBLISH
X-PUBLISHED-TTL:P3D
REFRESH-INTERVAL:P3D
CALSCALE:GREGORIAN
BEGIN:VEVENT
DTSTART:20161102T020000Z
DTEND:20161102T040000Z
X-MICROSOFT-CDO-ALLDAYEVENT:FALSE
SUMMARY:Choosing a Bookkeeping Program & Best Practices
DESCRIPTION:Selecting and setting up a bookkeeping program are critical to tracking and managing your business. This workshop will help you learn about what criteria to consider when selecting your program and how to structure your accounts. Instructor: Kelly Ward\, CPA
X-ALT-DESC;FMTTYPE=text/html:<p>Selecting and setting up a bookkeeping program are critical to tracking and managing your business. This workshop will help you learn about what criteria to consider when selecting your program and how to structure your accounts. Instructor:&nbsp\;<em>Kelly Ward\, CPA</em></p>\n
LOCATION:the Hub\, 410 Second Avenue
UID:e.106.13201
SEQUENCE:3
DTSTAMP:20260422T042022Z
URL:https://www.fairbankschamber.org/events/details/choosing-a-bookkeeping-program-best-practices-01-19-2016-13201
END:VEVENT

END:VCALENDAR
