BEGIN:VCALENDAR
VERSION:2.0
PRODID:-//ChamberMaster//Event Calendar 2.0//EN
METHOD:PUBLISH
X-PUBLISHED-TTL:P3D
REFRESH-INTERVAL:P3D
CALSCALE:GREGORIAN
BEGIN:VEVENT
DTSTART:20170203T030000Z
DTEND:20170203T060000Z
X-MICROSOFT-CDO-ALLDAYEVENT:FALSE
SUMMARY:Celebrity Comedy Roast
DESCRIPTION:Please join Alyeska Pipeline Service Company and the Fairbanks Funny Fest as they present the Celebrity Comedy Roast of Gary Wilken. Enjoy hors d'oeuvres\, good company\, and lots of laughs!
X-ALT-DESC;FMTTYPE=text/html:Please join Alyeska Pipeline Service Company and the Fairbanks Funny Fest as they present the Celebrity Comedy Roast of Gary Wilken. Enjoy hors d&#39\;oeuvres\, good company\, and lots of laughs!
LOCATION:Raven Landing Community Center
UID:e.106.17624
SEQUENCE:3
DTSTAMP:20260421T234024Z
URL:https://www.fairbankschamber.org/events/details/celebrity-comedy-roast-17624
END:VEVENT

END:VCALENDAR
