BEGIN:VCALENDAR
VERSION:2.0
PRODID:-//ChamberMaster//Event Calendar 2.0//EN
METHOD:PUBLISH
X-PUBLISHED-TTL:P3D
REFRESH-INTERVAL:P3D
CALSCALE:GREGORIAN
BEGIN:VEVENT
DTSTART:20161222T013000Z
DTEND:20161222T033000Z
X-MICROSOFT-CDO-ALLDAYEVENT:FALSE
SUMMARY:Capstone Celebration & Open House
DESCRIPTION:Please join us for a capstone celebration & open house as our Stone's Throw culinary students graduate from the program - also meet our amazing new Executive Director\, Ed Bermudez! We could not be more proud of this class & are excited to see their handwork & dedication culminate on Wednesday\, December 21st at 4:30PM. The graduates will be preparing light hors d'oeuvres for the occasion - please RSVP at breadlineak.org/event/grad
X-ALT-DESC;FMTTYPE=text/html:Please join us for a capstone celebration &amp\; open house as our Stone&#39\;s Throw culinary students graduate from the program - also meet our amazing new Executive Director\, Ed Bermudez! We could not be more proud of this class &amp\; are excited to see their handwork &amp\; dedication culminate on Wednesday\, December 21st at 4:30PM. The graduates will be preparing light hors d&#39\;oeuvres for the occasion - please RSVP at breadlineak.org/event/grad
LOCATION:507 Gaffney Rd.
UID:e.106.17395
SEQUENCE:3
DTSTAMP:20260422T025747Z
URL:https://www.fairbankschamber.org/events/details/capstone-celebration-open-house-17395
END:VEVENT

END:VCALENDAR
