BEGIN:VCALENDAR
VERSION:2.0
PRODID:-//ChamberMaster//Event Calendar 2.0//EN
METHOD:PUBLISH
X-PUBLISHED-TTL:P3D
REFRESH-INTERVAL:P3D
CALSCALE:GREGORIAN
BEGIN:VEVENT
DTSTART:20160812T020000Z
DTEND:20160812T044500Z
X-MICROSOFT-CDO-ALLDAYEVENT:FALSE
SUMMARY:CANNED-idate Forum
DESCRIPTION:The League of Women Voters of the Tanana Valley is hosting a forum for legislative candidates on Canned Foods Day at the Fair.
X-ALT-DESC;FMTTYPE=text/html:The League of Women Voters of the Tanana Valley is hosting a forum for legislative candidates on Canned Foods Day at the Fair.
LOCATION:Tanana Valley Fair\, Big Top Tent (next to the Yellow Gate)
UID:e.106.16704
SEQUENCE:3
DTSTAMP:20260422T082509Z
URL:https://www.fairbankschamber.org/events/details/canned-idate-forum-08-11-2016-16704
END:VEVENT

END:VCALENDAR
