BEGIN:VCALENDAR
VERSION:2.0
PRODID:-//ChamberMaster//Event Calendar 2.0//EN
METHOD:PUBLISH
X-PUBLISHED-TTL:P3D
REFRESH-INTERVAL:P3D
CALSCALE:GREGORIAN
BEGIN:VEVENT
DTSTART;VALUE=DATE:20200918
DTEND;VALUE=DATE:20200919
TRANSP:TRANSPARENT
X-MICROSOFT-CDO-ALLDAYEVENT:TRUE
SUMMARY:Call for Art: 2022 Exhibitions in the Bear Gallery
DESCRIPTION:The Visual Arts Committee of Fairbanks Arts Association invites artists and artisans from Alaska to submit for review digital images of their work for possible solo\, group\, or curated exhibitions in the Bear Gallery for the year 2022. Every month\, the Bear Gallery hosts two art exhibitions by Alaskan artists/artist groups working in a variety of media to local and out-of-town visitors of Fairbanks. Portfolios are reviewed by a panel of professional Alaskan artists and are chosen on the merit of the work samples entered.\n \n\nPortfolios may propose the following type of exhibitions: \n\n\n	\n	Solo Exhibition: One Artist \n	\n	\n	Group: Separate works of two or more artists \n	\n	\n	Curated: Curator selects theme\, conceptual focus\, and included artwork.\n	\n\n \n\nPortfolios are reviewed by a panel of professional Alaskan artists and are recommended based on the merit of the work samples entered. Deadline: October 31\, 2020.\n \n\nFor more information and to submit a portfolio\, please visit fairbanksarts.org.
X-ALT-DESC;FMTTYPE=text/html:<p><span style="background-color:transparent\; color:rgb(0\, 0\, 0)\; font-family:arial\; font-size:11pt">The Visual Arts Committee of Fairbanks Arts Association invites artists and artisans from Alaska to submit for review digital images of their work for possible </span><strong>solo</strong><span style="background-color:transparent\; color:rgb(0\, 0\, 0)\; font-family:arial\; font-size:11pt">\, </span><strong>group</strong><span style="background-color:transparent\; color:rgb(0\, 0\, 0)\; font-family:arial\; font-size:11pt">\, or </span><strong>curated</strong><span style="background-color:transparent\; color:rgb(0\, 0\, 0)\; font-family:arial\; font-size:11pt"> exhibitions in the Bear Gallery for the year 2022. Every month\, the Bear Gallery hosts two art exhibitions by Alaskan artists/artist groups working in a variety of media to local and out-of-town visitors of Fairbanks. Portfolios are reviewed by a panel of professional Alaskan artists and are chosen on the merit of the work samples entered.</span></p>\n&nbsp\;\n\n<p><span style="background-color:transparent\; color:rgb(0\, 0\, 0)\; font-family:arial\; font-size:11pt">Portfolios may propose the following type of exhibitions:&nbsp\;</span></p>\n\n<ul>\n	<li>\n	<p><span style="background-color:transparent\; font-size:11pt">Solo Exhibition: One Artist&nbsp\;</span></p>\n	</li>\n	<li>\n	<p><span style="background-color:transparent\; font-size:11pt">Group: Separate works of two or more artists&nbsp\;</span></p>\n	</li>\n	<li>\n	<p><span style="background-color:transparent\; font-size:11pt">Curated: Curator selects theme\, conceptual focus\, and included artwork.</span></p>\n	</li>\n</ul>\n&nbsp\;\n\n<p><span style="background-color:transparent\; color:rgb(0\, 0\, 0)\; font-family:arial\; font-size:11pt">Portfolios are reviewed by a panel of professional Alaskan artists and are recommended based on the merit of the work samples entered.</span><strong> Deadline: October 31\, 2020</strong><span style="background-color:transparent\; color:rgb(0\, 0\, 0)\; font-family:arial\; font-size:11pt">.</span></p>\n&nbsp\;\n\n<p><span style="background-color:transparent\; color:rgb(0\, 0\, 0)\; font-family:arial\; font-size:11pt">For more information and to submit a portfolio\, please visit </span><a href="https://fairbanksarts.org/" style="text-decoration-line: none\;"><span style="background-color:transparent\; color:rgb(17\, 85\, 204)\; font-family:arial\; font-size:11pt">fairbanksarts.org</span></a><span style="background-color:transparent\; color:rgb(0\, 0\, 0)\; font-family:arial\; font-size:11pt">.</span></p>\n
LOCATION:The Bear Gallery Alaska Centennial Center for the Arts 2300 Airport Way Fairbanks\, AK 99701
UID:e.106.27275
SEQUENCE:3
DTSTAMP:20260421T034224Z
URL:https://www.fairbankschamber.org/events/details/call-for-art-2022-exhibitions-in-the-bear-gallery-09-18-2020-27275
END:VEVENT

END:VCALENDAR
