BEGIN:VCALENDAR
VERSION:2.0
PRODID:-//ChamberMaster//Event Calendar 2.0//EN
METHOD:PUBLISH
X-PUBLISHED-TTL:P3D
REFRESH-INTERVAL:P3D
CALSCALE:GREGORIAN
BEGIN:VEVENT
DTSTART:20170722T020000Z
DTEND:20170722T050000Z
X-MICROSOFT-CDO-ALLDAYEVENT:FALSE
SUMMARY:Cabaret
DESCRIPTION:Come see your friends and family members sing on stage! Participants will perform the piece they have been perfecting over the past week\; accompanied by guest artist Ron Drotos. Food and beverages are available for purchase.
X-ALT-DESC;FMTTYPE=text/html:Come see your friends and family members sing on stage! Participants will perform the piece they have been perfecting over the past week\; accompanied by guest artist Ron Drotos. Food and beverages are available for purchase.
LOCATION:Blue Loon
UID:e.106.19979
SEQUENCE:3
DTSTAMP:20260419T160715Z
URL:https://www.fairbankschamber.org/events/details/cabaret-19979
END:VEVENT

END:VCALENDAR
