BEGIN:VCALENDAR
VERSION:2.0
PRODID:-//ChamberMaster//Event Calendar 2.0//EN
METHOD:PUBLISH
X-PUBLISHED-TTL:P3D
REFRESH-INTERVAL:P3D
CALSCALE:GREGORIAN
BEGIN:VEVENT
DTSTART:20161020T013000Z
DTEND:20161020T033000Z
X-MICROSOFT-CDO-ALLDAYEVENT:FALSE
SUMMARY:Budgeting/Cash Flow Planning
DESCRIPTION:Learn how to develop a budget for your small business and manage and plan for cash flow throughout the year.   Kelly Ward\, CPA
X-ALT-DESC;FMTTYPE=text/html:<p>Learn how to develop a budget for your small business and manage and plan for cash flow throughout the year. &mdash\; <em>Kelly Ward\, CPA</em></p>\n
LOCATION:Small Business Development Center\, AGC Building\, 3750 Bonita St.
UID:e.106.13204
SEQUENCE:3
DTSTAMP:20260422T055057Z
URL:https://www.fairbankschamber.org/events/details/budgeting-cash-flow-planning-02-02-2016-13204
END:VEVENT

END:VCALENDAR
