BEGIN:VCALENDAR
VERSION:2.0
PRODID:-//ChamberMaster//Event Calendar 2.0//EN
METHOD:PUBLISH
X-PUBLISHED-TTL:P3D
REFRESH-INTERVAL:P3D
CALSCALE:GREGORIAN
BEGIN:VEVENT
DTSTART:20170427T190000Z
DTEND:20170427T200000Z
X-MICROSOFT-CDO-ALLDAYEVENT:FALSE
SUMMARY:Brady Brady and the Last Frontier
DESCRIPTION:The museum will be hosting a Hockey-themed play called "Brady Brady and the Last Frontier" (based on a Mary Shaw book). The student body of Cantwell school will be performing this play on our brand new stage! The students are also interested in reading to younger children after the play to share their love of reading! This show is free with admission. Regular admission is $8 per person over the age of one. Military admission is $7 per person. Members always play free!
X-ALT-DESC;FMTTYPE=text/html:The museum will be hosting a Hockey-themed play called &quot\;Brady Brady and the Last Frontier&quot\; (based on a Mary Shaw book). The student body of Cantwell school will be performing this play on our brand new stage! The students are also interested in reading to younger children after the play to share their love of reading! This show is free with admission. Regular admission is $8 per person over the age of one. Military admission is $7 per person. Members always play free!
LOCATION:Fairbanks Children's Museum 302 Cushman Street\, Suite 101 Fairbanks\, AK 99701
UID:e.106.18813
SEQUENCE:3
DTSTAMP:20260421T203823Z
URL:https://www.fairbankschamber.org/events/details/brady-brady-and-the-last-frontier-18813
END:VEVENT

END:VCALENDAR
