BEGIN:VCALENDAR
VERSION:2.0
PRODID:-//ChamberMaster//Event Calendar 2.0//EN
METHOD:PUBLISH
X-PUBLISHED-TTL:P3D
REFRESH-INTERVAL:P3D
CALSCALE:GREGORIAN
BEGIN:VEVENT
DTSTART:20161204T053000Z
DTEND:20161204T080000Z
X-MICROSOFT-CDO-ALLDAYEVENT:FALSE
SUMMARY:Black Tie & Blue Jeans Social Dance
DESCRIPTION:Everyone's invited to dance to LIVE music by Theresa Bauer at our annual Black Tie & Blue Jeans dance! Dress up or dress down\, and bring your favorite finger food for the potluck. Special Event ~~ $10 per person No experience or partner necessary. Please bring clean\, non-marking shoes.
X-ALT-DESC;FMTTYPE=text/html:Everyone&#39\;s invited to dance to LIVE music by Theresa Bauer at our annual Black Tie &amp\; Blue Jeans dance! Dress up or dress down\, and bring your favorite finger food for the potluck. Special Event ~~ $10 per person No experience or partner necessary. Please bring clean\, non-marking shoes.
LOCATION:Pioneer Park Dance Center
UID:e.106.17330
SEQUENCE:3
DTSTAMP:20260422T030708Z
URL:https://www.fairbankschamber.org/events/details/black-tie-blue-jeans-social-dance-17330
END:VEVENT

END:VCALENDAR
