BEGIN:VCALENDAR
VERSION:2.0
PRODID:-//ChamberMaster//Event Calendar 2.0//EN
METHOD:PUBLISH
X-PUBLISHED-TTL:P3D
REFRESH-INTERVAL:P3D
CALSCALE:GREGORIAN
BEGIN:VEVENT
DTSTART:20160907T013000Z
DTEND:20160907T023000Z
X-MICROSOFT-CDO-ALLDAYEVENT:FALSE
SUMMARY:Better Breathers Club
DESCRIPTION:People with lung disease and their loved ones are welcome to Better Breathers Club\, a support group hosted by the American Lung Association in Alaska. The guest speaker is Hospice Chaplain David Rumph Jr. speaking on dealing with grief and loss.
X-ALT-DESC;FMTTYPE=text/html:People with lung disease and their loved ones are welcome to Better Breathers Club\, a support group hosted by the American Lung Association in Alaska. The guest speaker is Hospice Chaplain David Rumph Jr. speaking on dealing with grief and loss.
LOCATION:Fairbanks Memorial Hospital Cancer Treatment Center
UID:e.106.16729
SEQUENCE:3
DTSTAMP:20260422T071348Z
URL:https://www.fairbankschamber.org/events/details/better-breathers-club-16729
END:VEVENT

END:VCALENDAR
