BEGIN:VCALENDAR
VERSION:2.0
PRODID:-//ChamberMaster//Event Calendar 2.0//EN
METHOD:PUBLISH
X-PUBLISHED-TTL:P3D
REFRESH-INTERVAL:P3D
CALSCALE:GREGORIAN
BEGIN:VEVENT
DTSTART:20160927T090000Z
DTEND:20160927T220000Z
X-MICROSOFT-CDO-ALLDAYEVENT:FALSE
SUMMARY:Better Breathers Club
DESCRIPTION:Join the American Lung Association in Alaska for this support group for people with chronic lung disease and their caregivers. Learn ways to improve quality of life and share stories and tips that will help people cope with symptoms of lung disease\, including asthma\, COPD\, lung cancer\, emphysema.
X-ALT-DESC;FMTTYPE=text/html:Join the American Lung Association in Alaska for this support group for people with chronic lung disease and their caregivers. Learn ways to improve quality of life and share stories and tips that will help people cope with symptoms of lung disease\, including asthma\, COPD\, lung cancer\, emphysema.
LOCATION:Fairbanks Senior Center\, 1424 Moore Street
UID:e.106.17162
SEQUENCE:3
DTSTAMP:20260422T071847Z
URL:https://www.fairbankschamber.org/events/details/better-breathers-club-09-27-2016-17162
END:VEVENT

END:VCALENDAR
