BEGIN:VCALENDAR
VERSION:2.0
PRODID:-//ChamberMaster//Event Calendar 2.0//EN
METHOD:PUBLISH
X-PUBLISHED-TTL:P3D
REFRESH-INTERVAL:P3D
CALSCALE:GREGORIAN
BEGIN:VEVENT
DTSTART:20160706T013000Z
DTEND:20160706T023000Z
X-MICROSOFT-CDO-ALLDAYEVENT:FALSE
SUMMARY:Better Breathers Club
DESCRIPTION:Join the American Lung Association's support group for people with lung disease. Learn tips to improve quality of life. July's speaker is Hajnalka Nemeth\, pharmacist from North Pole Prescription Lab. She will discuss medicines\, vaccines and more. We meet the first Tuesday of each month in the Cancer Treatment Center conference room at the hospital.
X-ALT-DESC;FMTTYPE=text/html:Join the American Lung Association&#39\;s support group for people with lung disease. Learn tips to improve quality of life. July&#39\;s speaker is Hajnalka Nemeth\, pharmacist from North Pole Prescription Lab. She will discuss medicines\, vaccines and more. We meet the first Tuesday of each month in the Cancer Treatment Center conference room at the hospital.
LOCATION:Fairbanks Memorial Hospital Cancer Treatment Center conference room
UID:e.106.16602
SEQUENCE:3
DTSTAMP:20260422T095420Z
URL:https://www.fairbankschamber.org/events/details/better-breathers-club-07-05-2016-16602
END:VEVENT

END:VCALENDAR
