BEGIN:VCALENDAR
VERSION:2.0
PRODID:-//ChamberMaster//Event Calendar 2.0//EN
METHOD:PUBLISH
X-PUBLISHED-TTL:P3D
REFRESH-INTERVAL:P3D
CALSCALE:GREGORIAN
BEGIN:VEVENT
DTSTART:20170415T190000Z
DTEND:20170415T200000Z
X-MICROSOFT-CDO-ALLDAYEVENT:FALSE
SUMMARY:Beat Beethoven 5K Race
DESCRIPTION:23rd annual Fundraising 5K race where runners attempt to cross the finish line before the music of Beethoven's 5th Symphony ends. The race starts and ends in front of the UAF Patty Center. Lot's of free parking. Fun for the whole family!!!
X-ALT-DESC;FMTTYPE=text/html:23rd annual Fundraising 5K race where runners attempt to cross the finish line before the music of Beethoven&#39\;s 5th Symphony ends. The race starts and ends in front of the UAF Patty Center. Lot&#39\;s of free parking. Fun for the whole family!!!
LOCATION:UAF Campus - Patty Center
UID:e.106.17722
SEQUENCE:3
DTSTAMP:20260421T203551Z
URL:https://www.fairbankschamber.org/events/details/beat-beethoven-5k-race-17722
END:VEVENT

END:VCALENDAR
