BEGIN:VCALENDAR
VERSION:2.0
PRODID:-//ChamberMaster//Event Calendar 2.0//EN
METHOD:PUBLISH
X-PUBLISHED-TTL:P3D
REFRESH-INTERVAL:P3D
CALSCALE:GREGORIAN
BEGIN:VEVENT
DTSTART:20170121T053000Z
DTEND:20170121T080000Z
X-MICROSOFT-CDO-ALLDAYEVENT:FALSE
SUMMARY:Beach Party Social Dance
DESCRIPTION:Leave the dark and cold of January in Fairbanks behind and join us where you really want to be... the beach! Throw on your brightest Hawaiian shirt\, sip a cold drink\, and dance your worries away at this relaxing social. No experience or partner necessary. Please bring clean\, non-marking shoes. $5 members\, students\, & military/$6 general public
X-ALT-DESC;FMTTYPE=text/html:Leave the dark and cold of January in Fairbanks behind and join us where you really want to be... the beach! Throw on your brightest Hawaiian shirt\, sip a cold drink\, and dance your worries away at this relaxing social. No experience or partner necessary. Please bring clean\, non-marking shoes. $5 members\, students\, &amp\; military/$6 general public
LOCATION:Pioneer Park Dance Center
UID:e.106.17420
SEQUENCE:3
DTSTAMP:20260422T011841Z
URL:https://www.fairbankschamber.org/events/details/beach-party-social-dance-17420
END:VEVENT

END:VCALENDAR
