BEGIN:VCALENDAR
VERSION:2.0
PRODID:-//ChamberMaster//Event Calendar 2.0//EN
METHOD:PUBLISH
X-PUBLISHED-TTL:P3D
REFRESH-INTERVAL:P3D
CALSCALE:GREGORIAN
BEGIN:VEVENT
DTSTART:20160716T030000Z
DTEND:20160716T050000Z
X-MICROSOFT-CDO-ALLDAYEVENT:FALSE
SUMMARY:BCDC Night at Mitchell Raceway
DESCRIPTION:Enjoy mini-bomber\, dollar stock\, sportsman\, modified and winged sprint car racing on the quarter mile dirt track. Buy a 50/50 ticket and split the pot with the Breast Cancer Detection Center of Alaska. More information at www.bcdcofalaska.org.
X-ALT-DESC;FMTTYPE=text/html:Enjoy mini-bomber\, dollar stock\, sportsman\, modified and winged sprint car racing on the quarter mile dirt track. Buy a 50/50 ticket and split the pot with the Breast Cancer Detection Center of Alaska. More information at www.bcdcofalaska.org.
LOCATION:4075 Peger Road Fairbanks\, Alaska 99709
UID:e.106.16607
SEQUENCE:3
DTSTAMP:20260422T100657Z
URL:https://www.fairbankschamber.org/events/details/bcdc-night-at-mitchell-raceway-07-15-2016-16607
END:VEVENT

END:VCALENDAR
