BEGIN:VCALENDAR
VERSION:2.0
PRODID:-//ChamberMaster//Event Calendar 2.0//EN
METHOD:PUBLISH
X-PUBLISHED-TTL:P3D
REFRESH-INTERVAL:P3D
CALSCALE:GREGORIAN
BEGIN:VEVENT
DTSTART:20161002T030000Z
DTEND:20161002T053000Z
X-MICROSOFT-CDO-ALLDAYEVENT:FALSE
SUMMARY:BCDC 40th Anniversary Fundraiser
DESCRIPTION:Reserve your ticket and start looking for your outfit today! You are invited to a roaring 20's shindig in support of the Breast Cancer Detection Center of Alaska. Enjoy music\, hors 'dourves\, cocktails\, a mobile bidding auction\, and schmoozin'.
X-ALT-DESC;FMTTYPE=text/html:Reserve your ticket and start looking for your outfit today! You are invited to a roaring 20&#39\;s shindig in support of the Breast Cancer Detection Center of Alaska. Enjoy music\, hors &#39\;dourves\, cocktails\, a mobile bidding auction\, and schmoozin&#39\;.
LOCATION:Fountainhead Antique Auto Museum
UID:e.106.16645
SEQUENCE:3
DTSTAMP:20260422T054238Z
URL:https://www.fairbankschamber.org/events/details/bcdc-40th-anniversary-fundraiser-10-01-2016-16645
END:VEVENT

END:VCALENDAR
