BEGIN:VCALENDAR
VERSION:2.0
PRODID:-//ChamberMaster//Event Calendar 2.0//EN
METHOD:PUBLISH
X-PUBLISHED-TTL:P3D
REFRESH-INTERVAL:P3D
CALSCALE:GREGORIAN
BEGIN:VEVENT
DTSTART:20161023T163000Z
DTEND:20161023T210000Z
X-MICROSOFT-CDO-ALLDAYEVENT:FALSE
SUMMARY:Baller's Brunch
DESCRIPTION:Games start early in Alaska!! So Lavelle's Tap House and Alaskana Kitchen have paired up to serve a great breakfast and place to watch the games. Brunch starts at 8:30 amd and at 10am the Tap house can start serving up their incredible Bloody Marys\, Mimosas and 36 taps of options!
X-ALT-DESC;FMTTYPE=text/html:Games start early in Alaska!! So Lavelle&#39\;s Tap House and Alaskana Kitchen have paired up to serve a great breakfast and place to watch the games. Brunch starts at 8:30 amd and at 10am the Tap house can start serving up their incredible Bloody Marys\, Mimosas and 36 taps of options!
LOCATION:Lavelle's Tap House downtown on 2nd Ave
UID:e.106.17340
SEQUENCE:3
DTSTAMP:20260422T055039Z
URL:https://www.fairbankschamber.org/events/details/baller-s-brunch-10-23-2016-17340
END:VEVENT

END:VCALENDAR
