BEGIN:VCALENDAR
VERSION:2.0
PRODID:-//ChamberMaster//Event Calendar 2.0//EN
METHOD:PUBLISH
X-PUBLISHED-TTL:P3D
REFRESH-INTERVAL:P3D
CALSCALE:GREGORIAN
BEGIN:VEVENT
DTSTART:20170402T043000Z
DTEND:20170402T070000Z
X-MICROSOFT-CDO-ALLDAYEVENT:FALSE
SUMMARY:April Fools Social Dance
DESCRIPTION:This dance is no joke! Everyone's invited to kick up their heels at this month's Saturday Social Dance. This is a great way to get moving and meet new people. Be on your guard  a trickster might be lurking in the shadows. No experience or partner necessary. Please bring clean\, non-marking shoes. $5 members\, students\, & military/$6 general public
X-ALT-DESC;FMTTYPE=text/html:This dance is no joke! Everyone&rsquo\;s invited to kick up their heels at this month&rsquo\;s Saturday Social Dance. This is a great way to get moving and meet new people. Be on your guard&hellip\; a trickster might be lurking in the shadows. No experience or partner necessary. Please bring clean\, non-marking shoes. $5 members\, students\, &amp\; military/$6 general public
LOCATION:Pioneer Park Dance Center\, 2300 Airport Way\, Fairbanks
UID:e.106.17752
SEQUENCE:3
DTSTAMP:20260421T203658Z
URL:https://www.fairbankschamber.org/events/details/april-fools-social-dance-17752
END:VEVENT

END:VCALENDAR
