BEGIN:VCALENDAR
VERSION:2.0
PRODID:-//ChamberMaster//Event Calendar 2.0//EN
METHOD:PUBLISH
X-PUBLISHED-TTL:P3D
REFRESH-INTERVAL:P3D
CALSCALE:GREGORIAN
BEGIN:VEVENT
DTSTART:20170901T230000Z
DTEND:20170902T040000Z
X-MICROSOFT-CDO-ALLDAYEVENT:FALSE
SUMMARY:"Alaskan Eclectic"\, First Friday art show
DESCRIPTION:Enjoy September First Friday with the works of long time Alaskan artists Cheryl Berrong\, \, Dawn Marie Crass\, Sherry Fisler. They will be exhibiting pastels\, watercolors\, acrylic paintings\, and scratch board prints demonstrating the breadth and depth of Alaskan wilderness. (Under 21 welcome with parent/guardian).
X-ALT-DESC;FMTTYPE=text/html:Enjoy September First Friday with the works of long time Alaskan artists Cheryl Berrong\, \, Dawn Marie Crass\, Sherry Fisler. They will be exhibiting pastels\, watercolors\, acrylic paintings\, and scratch board prints demonstrating the breadth and depth of Alaskan wilderness. (Under 21 welcome with parent/guardian).
LOCATION:Hoarfrost Distilling 3501 Lathrop Street\, Suite F\, Fairbanks\, AK 99701
UID:e.106.20066
SEQUENCE:3
DTSTAMP:20260421T131703Z
URL:https://www.fairbankschamber.org/events/details/alaskan-eclectic-first-friday-art-show-20066
END:VEVENT

END:VCALENDAR
