BEGIN:VCALENDAR
VERSION:2.0
PRODID:-//ChamberMaster//Event Calendar 2.0//EN
METHOD:PUBLISH
X-PUBLISHED-TTL:P3D
REFRESH-INTERVAL:P3D
CALSCALE:GREGORIAN
BEGIN:VEVENT
DTSTART:20260512T200000Z
DTEND:20260512T210000Z
X-MICROSOFT-CDO-ALLDAYEVENT:FALSE
SUMMARY:Alaska State Troopers Update & FEDC Innovation Showcase
DESCRIPTION:.event-card-container {\n    font-family: 'Segoe UI'\, Tahoma\, Geneva\, Verdana\, sans-serif\;\n    background-color: #ffffff\;\n    padding: 40px\;\n    max-width: 850px\;\n    border-radius: 12px\;\n    border: 1px solid #e0e0e0\;\n    box-shadow: 0 10px 25px rgba(0\,0\,0\,0.08)\;\n    margin: 20px auto\;\n  }\n\n  .event-header {\n    margin-bottom: 30px\;\n    border-bottom: 2px solid #f0f0f0\;\n    padding-bottom: 20px\;\n  }\n\n  .event-title {\n    color: #008a45\;\n    font-size: clamp(24px\, 5vw\, 42px)\;\n    font-weight: 500\;\n    margin: 0\;\n    text-transform: uppercase\;\n    letter-spacing: -0.5px\;\n    line-height: 1.1\;\n  }\n\n  .event-meta {\n    color: #666\;\n    font-size: 19px\;\n    margin: 12px 0 0 0\;\n  }\n\n  .event-highlight {\n    color: #f7941d\;\n    font-weight: bold\;\n  }\n\n  .event-body {\n    display: flex\;\n    align-items: center\;\n    gap: 35px\;\n    margin-bottom: 25px\;\n  }\n\n  .speaker-img-container {\n    flex-shrink: 0\;\n    width: 170px\;\n    height: 170px\;\n    border-radius: 8px\;\n    overflow: hidden\;\n \n  }\n\n  .speaker-img {\n    width: 100%\;\n    height: 100%\;\n    object-fit: cover\;\n    display: block\;\n  }\n\n  .accent-divider {\n    width: 2px\;\n    height: 140px\;\n    background-color: #f7941d\;\n    flex-shrink: 0\;\n  }\n\n  .content-area {\n    display: flex\;\n    flex-direction: column\;\n    justify-content: center\;\n    color: #2e3192\;\n    line-height: 1.4\;\n  }\n\n  .sponsor-footer {\n    border-top: 1px solid #f0f0f0\;\n    padding-top: 20px\;\n    margin-top: 10px\;\n    display: flex\;\n    align-items: center\;\n    justify-content: center\;\n    gap: 15px\;\n  }\n\n  .sponsor-label {\n    font-size: 14px\;\n    text-transform: uppercase\;\n    color: #888\;\n    letter-spacing: 1px\;\n    font-weight: bold\;\n  }\n\n  .sponsor-logo-img {\n    max-width: 200px\;\n    height: auto\;\n    display: block\;\n  }\n\n  @media (max-width: 768px) {\n    .event-card-container { padding: 30px\; margin: 15px\; }\n  }\n\n  @media (max-width: 600px) {\n    .event-header { text-align: center\; }\n    .event-body { flex-direction: column\; text-align: center\; gap: 20px\; }\n    .event-meta span { display: block\; margin-left: 0 !important\; margin-top: 5px\; }\n    .accent-divider { width: 60px\; height: 3px\; margin: 0 auto\; }\n    .speaker-img-container { width: 160px\; height: 160px\; }\n    .sponsor-footer { flex-direction: column\; text-align: center\; }\n  }\n\n\n\nAlaska State Troopers Update & FEDC Innovation Showcase\n\nTuesday\, May 12\, 2026 [12-1pm\, Westmark Gold Room]\n\n\n\n \n\n \n\n\nAlaska State Troopers Update\n\n Captain Eric Spitzer\n\n& \n\nFEDC Alaska Interior Business Accelerator Pitch \n\n \n\n\n\nSponsored by\n\n\n\nA two-for-one you won't want to miss!\n\nJoin us for a statewide update from Captain Spitzer of the Alaska State Troopers\, sharing insight on public safety priorities and trends across Alaska.\n\nThen hear from FEDC's Alaska Interior Business Accelerator Pitch Competition as they present innovative ideas shaping the future of business in the Interior.
X-ALT-DESC;FMTTYPE=text/html:<style type="text/css">.event-card-container {\n    font-family: 'Segoe UI'\, Tahoma\, Geneva\, Verdana\, sans-serif\;\n    background-color: #ffffff\;\n    padding: 40px\;\n    max-width: 850px\;\n    border-radius: 12px\;\n    border: 1px solid #e0e0e0\;\n    box-shadow: 0 10px 25px rgba(0\,0\,0\,0.08)\;\n    margin: 20px auto\;\n  }\n\n  .event-header {\n    margin-bottom: 30px\;\n    border-bottom: 2px solid #f0f0f0\;\n    padding-bottom: 20px\;\n  }\n\n  .event-title {\n    color: #008a45\;\n    font-size: clamp(24px\, 5vw\, 42px)\;\n    font-weight: 500\;\n    margin: 0\;\n    text-transform: uppercase\;\n    letter-spacing: -0.5px\;\n    line-height: 1.1\;\n  }\n\n  .event-meta {\n    color: #666\;\n    font-size: 19px\;\n    margin: 12px 0 0 0\;\n  }\n\n  .event-highlight {\n    color: #f7941d\;\n    font-weight: bold\;\n  }\n\n  .event-body {\n    display: flex\;\n    align-items: center\;\n    gap: 35px\;\n    margin-bottom: 25px\;\n  }\n\n  .speaker-img-container {\n    flex-shrink: 0\;\n    width: 170px\;\n    height: 170px\;\n    border-radius: 8px\;\n    overflow: hidden\;\n \n  }\n\n  .speaker-img {\n    width: 100%\;\n    height: 100%\;\n    object-fit: cover\;\n    display: block\;\n  }\n\n  .accent-divider {\n    width: 2px\;\n    height: 140px\;\n    background-color: #f7941d\;\n    flex-shrink: 0\;\n  }\n\n  .content-area {\n    display: flex\;\n    flex-direction: column\;\n    justify-content: center\;\n    color: #2e3192\;\n    line-height: 1.4\;\n  }\n\n  .sponsor-footer {\n    border-top: 1px solid #f0f0f0\;\n    padding-top: 20px\;\n    margin-top: 10px\;\n    display: flex\;\n    align-items: center\;\n    justify-content: center\;\n    gap: 15px\;\n  }\n\n  .sponsor-label {\n    font-size: 14px\;\n    text-transform: uppercase\;\n    color: #888\;\n    letter-spacing: 1px\;\n    font-weight: bold\;\n  }\n\n  .sponsor-logo-img {\n    max-width: 200px\;\n    height: auto\;\n    display: block\;\n  }\n\n  @media (max-width: 768px) {\n    .event-card-container { padding: 30px\; margin: 15px\; }\n  }\n\n  @media (max-width: 600px) {\n    .event-header { text-align: center\; }\n    .event-body { flex-direction: column\; text-align: center\; gap: 20px\; }\n    .event-meta span { display: block\; margin-left: 0 !important\; margin-top: 5px\; }\n    .accent-divider { width: 60px\; height: 3px\; margin: 0 auto\; }\n    .speaker-img-container { width: 160px\; height: 160px\; }\n    .sponsor-footer { flex-direction: column\; text-align: center\; }\n  }\n</style>\n<div class="event-card-container">\n<div class="event-header">\n<h1 class="event-title">Alaska State Troopers Update &amp\; FEDC Innovation Showcase</h1>\n\n<p class="event-meta">Tuesday\, May 12\, 2026 <span class="event-highlight" style="margin-left: 10px\;">[12-1pm\, Westmark Gold Room]</span></p>\n</div>\n\n<div class="event-body">\n<div class="speaker-img-container">&nbsp\;</div>\n\n<div class="accent-divider">&nbsp\;</div>\n\n<div class="content-area">\n<h2 style="font-weight: 500\; margin: 0px 0px 8px\; color: rgb(46\, 49\, 146)\; text-align: center\;"><span style="font-size: 24px\;">Alaska State Troopers Update<br />\n<span style="font-size:18px\;">&nbsp\;Captain Eric Spitzer</span></span></h2>\n\n<h2 style="font-weight: 500\; margin: 0px 0px 8px\; color: rgb(46\, 49\, 146)\; text-align: center\;">&amp\;&nbsp\;</h2>\n\n<h2 style="font-weight: 500\; margin: 0px 0px 8px\; color: rgb(46\, 49\, 146)\; text-align: center\;"><span style="font-size: 24px\;">FEDC Alaska Interior Business Accelerator Pitch&nbsp\;</span></h2>\n\n<p style="margin: 0\; font-size: 17px\; color: #444\;">&nbsp\;</p>\n</div>\n</div>\n\n<div class="sponsor-footer"><span class="sponsor-label">Sponsored by</span></div>\n</div>\n\n<div style="font-family: Arial\, sans-serif\; font-size: 16px\; color: #333\; line-height: 1.6\; max-width: 850px\; margin: 30px auto\; padding: 0 10px\;">\n<p style="margin-bottom: 15px\;">A two-for-one you won&rsquo\;t want to miss!<br />\nJoin us for a statewide update from Captain Spitzer of the Alaska State Troopers\, sharing insight on public safety priorities and trends across Alaska.<br />\nThen hear from FEDC&rsquo\;s Alaska Interior Business Accelerator Pitch Competition&nbsp\;as they present innovative ideas shaping the future of business in the Interior.</p>\n</div>\n
LOCATION:Westmark Gold Room 813 Noble St Fairbanks\, AK 99701
UID:e.106.33378
SEQUENCE:3
DTSTAMP:20260425T010741Z
URL:https://www.fairbankschamber.org/events/details/alaska-state-troopers-update-fedc-innovation-showcase-33378
END:VEVENT

END:VCALENDAR
