BEGIN:VCALENDAR
VERSION:2.0
PRODID:-//ChamberMaster//Event Calendar 2.0//EN
METHOD:PUBLISH
X-PUBLISHED-TTL:P3D
REFRESH-INTERVAL:P3D
CALSCALE:GREGORIAN
BEGIN:VEVENT
DTSTART:20170423T230000Z
DTEND:20170424T003000Z
X-MICROSOFT-CDO-ALLDAYEVENT:FALSE
SUMMARY:Alaska Chamber Singers on Tour
DESCRIPTION:We are coming to Fairbanks! Our concert will feature "Eternity Passing Over - An Arctic Requiem" by John Muehleisen. Tickets are available at the door and are $20 for adults and students with valid ID are free.
X-ALT-DESC;FMTTYPE=text/html:We are coming to Fairbanks! Our concert will feature &quot\;Eternity Passing Over - An Arctic Requiem&quot\; by John Muehleisen. Tickets are available at the door and are $20 for adults and students with valid ID are free.
LOCATION:Pioneer Park Theater
UID:e.106.17751
SEQUENCE:3
DTSTAMP:20260421T204106Z
URL:https://www.fairbankschamber.org/events/details/alaska-chamber-singers-on-tour-17751
END:VEVENT

END:VCALENDAR
