BEGIN:VCALENDAR
VERSION:2.0
PRODID:-//ChamberMaster//Event Calendar 2.0//EN
METHOD:PUBLISH
X-PUBLISHED-TTL:P3D
REFRESH-INTERVAL:P3D
CALSCALE:GREGORIAN
BEGIN:VEVENT
DTSTART:20161022T160000Z
DTEND:20161022T213000Z
X-MICROSOFT-CDO-ALLDAYEVENT:FALSE
SUMMARY:AK Interior Medical Education Summit
DESCRIPTION:Are you thinking about a career in a health field? Join us to explore health careers such as: medical (MD/DO/ND)\, nursing (RN/CNA/CNP)\, pharmacy\, dental/assistant/hygienist\, veterinarian/vet techs\, EMT/Paramedic/Fire Science\, nutrition/dietitian\, health psychology\, acupuncture/Eastern medicine\, midwifery\, ophthalmology\, medical research\, chiropractic\, physical and occupational therapy\, phlebotomy\, medical billing/assisting and others. There will be: *panel discussions with practitioners & medical students *small group discussions *hands-on activities *information on education and funding options *vendors from various in-state and out of state programs *something for everyone! Register here: https://sites.google.com/a/alaska.edu/aimes/registration
X-ALT-DESC;FMTTYPE=text/html:Are you thinking about a career in a health field? Join us to explore health careers such as: medical (MD/DO/ND)\, nursing (RN/CNA/CNP)\, pharmacy\, dental/assistant/hygienist\, veterinarian/vet techs\, EMT/Paramedic/Fire Science\, nutrition/dietitian\, health psychology\, acupuncture/Eastern medicine\, midwifery\, ophthalmology\, medical research\, chiropractic\, physical and occupational therapy\, phlebotomy\, medical billing/assisting and others. There will be: *panel discussions with practitioners &amp\; medical students *small group discussions *hands-on activities *information on education and funding options *vendors from various in-state and out of state programs *something for everyone! Register here: https://sites.google.com/a/alaska.edu/aimes/registration
LOCATION:Murie Building.\, UAF Campus\, 982 N. Koyukuk Dr.
UID:e.106.17317
SEQUENCE:3
DTSTAMP:20260422T055005Z
URL:https://www.fairbankschamber.org/events/details/ak-interior-medical-education-summit-17317
END:VEVENT

END:VCALENDAR
