BEGIN:VCALENDAR
VERSION:2.0
PRODID:-//ChamberMaster//Event Calendar 2.0//EN
METHOD:PUBLISH
X-PUBLISHED-TTL:P3D
REFRESH-INTERVAL:P3D
CALSCALE:GREGORIAN
BEGIN:VEVENT
DTSTART:20170110T230000Z
DTEND:20170111T010000Z
X-MICROSOFT-CDO-ALLDAYEVENT:FALSE
SUMMARY:Air Force/Community Partnerships
DESCRIPTION:Join us for the Air Force Community Partnership information session\, January 10 from 2-4pm at Raven's Landing. With the two squadrons of F-35s coming in 2020 and all the military construction needs in the Interior\, opportunities are only limited by your imagination. Hear what is currently happening at Eielson Air Force base and learn how you or your business can grow by becoming involved in our military installations.
X-ALT-DESC;FMTTYPE=text/html:Join us for the Air Force Community Partnership information session\, January 10 from 2-4pm at Raven&rsquo\;s Landing. With the two squadrons of F-35s coming in 2020 and all the military construction needs in the Interior\, opportunities are only limited by your imagination. Hear what is currently happening at Eielson Air Force base and learn how you or your business can grow by becoming involved in our military installations.
LOCATION:Raven's Landing Community Center 1222 Cowles St.
UID:e.106.17416
SEQUENCE:3
DTSTAMP:20260422T012651Z
URL:https://www.fairbankschamber.org/events/details/air-force-community-partnerships-17416
END:VEVENT

END:VCALENDAR
