BEGIN:VCALENDAR
VERSION:2.0
PRODID:-//ChamberMaster//Event Calendar 2.0//EN
METHOD:PUBLISH
X-PUBLISHED-TTL:P3D
REFRESH-INTERVAL:P3D
CALSCALE:GREGORIAN
BEGIN:VEVENT
DTSTART:20160909T030000Z
DTEND:20160909T043000Z
X-MICROSOFT-CDO-ALLDAYEVENT:FALSE
SUMMARY:Adult Beginning Ballet Workshop
DESCRIPTION:If you've always wanted to learn how to do ballet but find the typical ballet class overwhelming\, this is the class for you! This 8 week long introductory workshop to ballet is designed for adults of all ages and teens 14+\, absolutely no experience required! This workshop will prepare you for entry into the semester long Ballet I class at North Star Ballet. Find us on FaceBook - The North Star Ballet
X-ALT-DESC;FMTTYPE=text/html:If you&#39\;ve always wanted to learn how to do ballet but find the typical ballet class overwhelming\, this is the class for you! This 8 week long introductory workshop to ballet is designed for adults of all ages and teens 14+\, absolutely no experience required! This workshop will prepare you for entry into the semester long Ballet I class at North Star Ballet. Find us on FaceBook - The North Star Ballet
LOCATION:1800 College Road - In the Tanana Valley Fairgrounds
UID:e.106.16735
SEQUENCE:3
DTSTAMP:20260422T071418Z
URL:https://www.fairbankschamber.org/events/details/adult-beginning-ballet-workshop-16735
END:VEVENT

END:VCALENDAR
