BEGIN:VCALENDAR
VERSION:2.0
PRODID:-//ChamberMaster//Event Calendar 2.0//EN
METHOD:PUBLISH
X-PUBLISHED-TTL:P3D
REFRESH-INTERVAL:P3D
CALSCALE:GREGORIAN
BEGIN:VEVENT
DTSTART:20170922T033000Z
DTEND:20170922T050000Z
X-MICROSOFT-CDO-ALLDAYEVENT:FALSE
SUMMARY:Adult Beginning Ballet Workshop
DESCRIPTION:Back by popular demand\, North Star Ballet is providing a beginning ballet class\, absolutely no experience necessary. This is a great 8 week introduction to classical ballet vocabulary\, and will facilitate entry into the semester long Ballet I class. Located in The Artisan?s Courtyard\, class will be held on Thursdays from 7:30 ? 9:00\, running September 21st - November 9th. Workshop registration encompasses all 8 classes for a fee of $190.
X-ALT-DESC;FMTTYPE=text/html:Back by popular demand\, North Star Ballet is providing a beginning ballet class\, absolutely no experience necessary. This is a great 8 week introduction to classical ballet vocabulary\, and will facilitate entry into the semester long Ballet I class. Located in The Artisan?s Courtyard\, class will be held on Thursdays from 7:30 ? 9:00\, running September 21st - November 9th. Workshop registration encompasses all 8 classes for a fee of $190.
LOCATION:The Artisan's Courtyard 1755 Westwood Way\, Fairbanks AK
UID:e.106.20094
SEQUENCE:3
DTSTAMP:20260421T131738Z
URL:https://www.fairbankschamber.org/events/details/adult-beginning-ballet-workshop-09-21-2017-20094
END:VEVENT

END:VCALENDAR
