BEGIN:VCALENDAR
VERSION:2.0
PRODID:-//ChamberMaster//Event Calendar 2.0//EN
METHOD:PUBLISH
X-PUBLISHED-TTL:P3D
REFRESH-INTERVAL:P3D
CALSCALE:GREGORIAN
BEGIN:VEVENT
DTSTART:20170708T180000Z
DTEND:20170708T220000Z
X-MICROSOFT-CDO-ALLDAYEVENT:FALSE
SUMMARY:Adopt A Pet
DESCRIPTION:MACPAC is sponsoring $100 towards pet adoptions at ColdSpot for Healthy Pets. You can come see the pets from Loving Companions\, enjoy music from 96.9 the River and eat delicious food from Spice It Up Food Truck. Available pets are kittens\, puppies\, bunnies\, dogs\, and cats. All pet adoptions include\; vaccinations\, microchip\, and spay/neuter.
X-ALT-DESC;FMTTYPE=text/html:MACPAC is sponsoring $100 towards pet adoptions at ColdSpot for Healthy Pets. You can come see the pets from Loving Companions\, enjoy music from 96.9 the River and eat delicious food from Spice It Up Food Truck. Available pets are kittens\, puppies\, bunnies\, dogs\, and cats. All pet adoptions include\; vaccinations\, microchip\, and spay/neuter.
LOCATION:Cold Spot For Healthy Pets
UID:e.106.20026
SEQUENCE:3
DTSTAMP:20260421T030721Z
URL:https://www.fairbankschamber.org/events/details/adopt-a-pet-20026
END:VEVENT

END:VCALENDAR
