BEGIN:VCALENDAR
VERSION:2.0
PRODID:-//ChamberMaster//Event Calendar 2.0//EN
METHOD:PUBLISH
X-PUBLISHED-TTL:P3D
REFRESH-INTERVAL:P3D
CALSCALE:GREGORIAN
BEGIN:VEVENT
DTSTART:20170327T000000Z
DTEND:20170327T020000Z
X-MICROSOFT-CDO-ALLDAYEVENT:FALSE
SUMMARY:88 Keys Benefit Concert
DESCRIPTION:Special Benefit Concert to help pay-off the loan for the YAMAHA CFX Grand Piano. Beethoven's Piano Concerto No. 1 and Rachmaninoff's Symphony No. 2 are on the program\, performed by the Fairbanks Symphony Orchestra with Music Director Eduard Zilberkant as both piano soloist and conductor. Special one hour "FREE" Pre-Concert lecture begins at 2:30 pm in Davis Concert Hall with guest speaker Dr. Stella Branzburg Sick demonstrating the amazing capabilities of this hybrid of old world craftsmanship and modern technology.
X-ALT-DESC;FMTTYPE=text/html:Special Benefit Concert to help pay-off the loan for the YAMAHA CFX Grand Piano. Beethoven&#39\;s Piano Concerto No. 1 and Rachmaninoff&#39\;s Symphony No. 2 are on the program\, performed by the Fairbanks Symphony Orchestra with Music Director Eduard Zilberkant as both piano soloist and conductor. Special one hour &quot\;FREE&quot\; Pre-Concert lecture begins at 2:30 pm in Davis Concert Hall with guest speaker Dr. Stella Branzburg Sick demonstrating the amazing capabilities of this hybrid of old world craftsmanship and modern technology.
LOCATION:Charles W. Davis Concert Hall on the UAF campus
UID:e.106.17719
SEQUENCE:3
DTSTAMP:20260421T220356Z
URL:https://www.fairbankschamber.org/events/details/88-keys-benefit-concert-17719
END:VEVENT

END:VCALENDAR
