BEGIN:VCALENDAR
VERSION:2.0
PRODID:-//ChamberMaster//Event Calendar 2.0//EN
METHOD:PUBLISH
X-PUBLISHED-TTL:P3D
REFRESH-INTERVAL:P3D
CALSCALE:GREGORIAN
BEGIN:VEVENT
DTSTART:20170121T030000Z
DTEND:20170121T060000Z
X-MICROSOFT-CDO-ALLDAYEVENT:FALSE
SUMMARY:7th Annual Soup Off
DESCRIPTION:January 20th is the 7th annual Soup Off   6PM at the Westmark   tickets are $40 each or $30 for military. The Soup Off is culinary competition between popular Fairbanks restaurants and chefs\, each presenting a delicious soup for review by a select panel of judges AND all ticket holders. The evening includes musical entertainment as well as silent and live auctions. The Soup Off is one of the Bread Line's most popular fundraising events   please join us for this souper event! Over the evening\, local celebrity judges Jennifer Jolis\, Gary Black\, Amy Rouse and Kristin Gagne will taste every soup and award the grand prize\, the "Golden Ladle\," to their favorite contender. A prize for "Best Use of Local Ingredients" will also be presented. Ticket holders may vote for their favorites for the "People's Choice" award. Space is limited\, so get your tickets early! Tickets are online NOW for the 7th annual Soup Off   $40 each or $30 for military - sponsored by Westmark Fairbanks\, Alaska Airlines & the Stone Soup Cafe.
X-ALT-DESC;FMTTYPE=text/html:January 20th is the 7th annual Soup Off &ndash\; 6PM at the Westmark &ndash\; tickets are $40 each or $30 for military. The Soup Off is culinary competition between popular Fairbanks restaurants and chefs\, each presenting a delicious soup for review by a select panel of judges AND all ticket holders. The evening includes musical entertainment as well as silent and live auctions. The Soup Off is one of the Bread Line&rsquo\;s most popular fundraising events &ndash\; please join us for this souper event! Over the evening\, local celebrity judges Jennifer Jolis\, Gary Black\, Amy Rouse and Kristin Gagne will taste every soup and award the grand prize\, the &ldquo\;Golden Ladle\,&rdquo\; to their favorite contender. A prize for &ldquo\;Best Use of Local Ingredients&rdquo\; will also be presented. Ticket holders may vote for their favorites for the &ldquo\;People&rsquo\;s Choice&rdquo\; award. Space is limited\, so get your tickets early! Tickets are online NOW for the 7th annual Soup Off &ndash\; $40 each or $30 for military - sponsored by Westmark Fairbanks\, Alaska Airlines &amp\; the Stone Soup Cafe.
LOCATION:813 Noble St\, Fairbanks\, Alaska 99701
UID:e.106.17617
SEQUENCE:3
DTSTAMP:20260422T011556Z
URL:https://www.fairbankschamber.org/events/details/7th-annual-soup-off-17617
END:VEVENT

END:VCALENDAR
